BEGIN:VCALENDAR
VERSION:2.0
PRODID:-//🚀 Carreras de MTB en Colombia ✔️ - ECPv6.15.20//NONSGML v1.0//EN
CALSCALE:GREGORIAN
METHOD:PUBLISH
X-ORIGINAL-URL:https://www.mtb.racing
X-WR-CALDESC:Eventos para 🚀 Carreras de MTB en Colombia ✔️
REFRESH-INTERVAL;VALUE=DURATION:PT1H
X-Robots-Tag:noindex
X-PUBLISHED-TTL:PT1H
BEGIN:VTIMEZONE
TZID:America/New_York
BEGIN:DAYLIGHT
TZOFFSETFROM:-0500
TZOFFSETTO:-0400
TZNAME:EDT
DTSTART:20240310T070000
END:DAYLIGHT
BEGIN:STANDARD
TZOFFSETFROM:-0400
TZOFFSETTO:-0500
TZNAME:EST
DTSTART:20241103T060000
END:STANDARD
BEGIN:DAYLIGHT
TZOFFSETFROM:-0500
TZOFFSETTO:-0400
TZNAME:EDT
DTSTART:20250309T070000
END:DAYLIGHT
BEGIN:STANDARD
TZOFFSETFROM:-0400
TZOFFSETTO:-0500
TZNAME:EST
DTSTART:20251102T060000
END:STANDARD
BEGIN:DAYLIGHT
TZOFFSETFROM:-0500
TZOFFSETTO:-0400
TZNAME:EDT
DTSTART:20260308T070000
END:DAYLIGHT
BEGIN:STANDARD
TZOFFSETFROM:-0400
TZOFFSETTO:-0500
TZNAME:EST
DTSTART:20261101T060000
END:STANDARD
END:VTIMEZONE
BEGIN:VEVENT
DTSTART;TZID=America/New_York:20250829T080000
DTEND;TZID=America/New_York:20250831T170000
DTSTAMP:20260421T102625
CREATED:20250702T170408Z
LAST-MODIFIED:20251001T211849Z
UID:10000091-1756454400-1756659600@www.mtb.racing
SUMMARY:🚴‍♂️ La Gran Vuelta 2025: Vive el desafío del ciclismo en el Tolima 🏔️
DESCRIPTION:Reserva tu lugar. ¡Inscríbete ya!\n\n\n\nEnlace\n\nWhatsApp\n\nFacebook\n\nInstagram\n\nCorreo\n\n\n\n\n\n\n\nDel 29 al 31 de agosto\, las carreteras del departamento del Tolima recibirán uno de los eventos más esperados del calendario ciclístico: La Gran Vuelta. Este recorrido por etapas invita a ciclistas de todo el país a enfrentarse a la geografía\, el calor y la altitud del centro de Colombia\, culminando con la conquista del mítico Alto de La Línea. \n\n\n\nAdemás\, para quienes desean enfocarse exclusivamente en la etapa reina\, se ha diseñado un formato especial: el Reto La Línea\, una prueba exclusiva para escalar hasta los 3.200 m de altura por una de las rutas más icónicas del ciclismo colombiano. \n\n\n\n\n\n\n\n🗓 Etapas de La Gran Vuelta\n\n\n\nEste evento se compone de tres etapas que atraviesan distintos climas y paisajes tolimenses: \n\n\n\n\nEtapa 1 – Alvarado → MariquitaCalurosa\, ondulada y con buena carretera. Ideal para rodadores que buscan ganar tiempo en el plano y disfrutar de un paisaje cargado de tradición agrícola.\n\n\n\nEtapa 2 – Cambao → GirardotRitmo sostenido y de velocidad. La topografía favorece a los ciclistas con buen manejo de cadencia. Perfecta para probar estrategias de equipo y controlar el pelotón.\n\n\n\nEtapa 3 – Ibagué → Alto de La LíneaLa esperada Etapa Reina. Más de 20 km de escalada continua\, con pendientes que pondrán a prueba tu preparación\, resistencia y mentalidad. Aquí es donde nacen las leyendas.\n\n\n\n\n\n\n\n\n\n\n\n\n🏁 ¿Qué es el Reto La Línea?\n\n\n\nEl Reto La Línea se desprende de la etapa final de La Gran Vuelta y consiste en un desafío único: ascender desde Ibagué hasta el Alto de La Línea. Es una prueba ideal para quienes se especializan en montaña o buscan probarse en uno de los ascensos más duros de Colombia. \n\n\n\nEste reto incluye jersey\, medalla\, hidratación\, asistencia médica y mecánica\, y todos los beneficios logísticos para afrontar la montaña con seguridad y motivación. \n\n\n\n\n\n\n\n🏆 Modalidades y beneficios\n\n\n\n\nParticipación completa en La Gran Vuelta (3 etapas) o\n\n\n\nReto La Línea individual (solo etapa 3)\n\n\n\nTarifas desde $210.000 con jersey oficial\n\n\n\nIncluye: asistencia médica y mecánica\, refrigerio\, hidratación\, medalla\, medias y número\n\n\n\nPremios por clasificación general y líder de montaña 🥇\n\n\n\n\n\n\n\n\n🌄 Consejos para competir en bicicleta de ruta en Tolima\n\n\n\nLa región del Tolima presenta condiciones variables de temperatura\, altitud y humedad. Por eso\, es importante tener en cuenta las siguientes recomendaciones: \n\n\n\n🔧 Revisión mecánica previa\n\n\n\n\nVerifica frenos\, presión de llantas y sistema de cambios.\n\n\n\nUsa una relación de piñones adecuada para montaña: lo ideal es un 34×28 o superior para el Reto La Línea.\n\n\n\n\n💧 Hidratación inteligente\n\n\n\n\nLleva al menos dos caramañolas.\n\n\n\nAclimátate al clima cálido de la zona baja del Tolima.\n\n\n\nToma líquidos desde el arranque\, no solo cuando tengas sed.\n\n\n\n\n🧠 Mentalidad estratégica\n\n\n\n\nMantén tu ritmo desde el inicio.\n\n\n\nGuarda fuerzas para los tramos más empinados del ascenso.\n\n\n\nNo persigas ataques si no estás en condiciones\, regula y confía en tu estrategia.\n\n\n\n\n🧤 Vestimenta adecuada\n\n\n\n\nUsa ropa técnica para climas cálidos.\n\n\n\nLleva un rompevientos en el bolsillo para la cima del Alto de La Línea\, donde la temperatura puede bajar significativamente.\n\n\n\nAsegura el uso de guantes\, gafas y protector solar.\n\n\n\n\n🍌 Nutrición en carrera\n\n\n\n\nLleva geles\, bocadillos y barras energéticas.\n\n\n\nCome algo ligero cada 30-45 minutos para mantener el nivel de energía.\n\n\n\n\n🛑 Seguridad ante todo\n\n\n\n\nRespeta la señalización de los organizadores.\n\n\n\nEn descensos o tramos técnicos\, prioriza el control sobre la velocidad.\n\n\n\nSiempre mantén tu derecha en carretera abierta.\n\n\n\n\n\n\n\n\n🧭 ¿Para quién es este evento?\n\n\n\nLa Gran Vuelta está pensada para ciclistas recreativos y competitivos que disfrutan del ciclismo por etapas. Si lo tuyo es el reto físico\, el paisaje rural y la comunidad ciclista\, esta es tu oportunidad. \n\n\n\nEl Reto La Línea está orientado a escaladores\, ciclistas con experiencia en montaña o quienes desean enfrentarse a una de las cumbres más exigentes de Colombia. También es perfecto para quienes no pueden asistir a las 3 etapas\, pero quieren vivir la experiencia más intensa del evento. \n\n\n\n\n\n\n\n🎯 Conclusión\n\n\n\nYa sea que te apuntes a las tres etapas de La Gran Vuelta o al exigente Reto La Línea\, este evento representa lo mejor del ciclismo de ruta en Colombia. Paisajes\, competencia\, superación y comunidad se dan cita en un escenario inolvidable. \n\n\n\nPrepárate\, entrena\, y ¡vive la experiencia de escalar Tolima como un verdadero campeón! 🚵‍♂️🔥🌄 \n\n\n\n\n\n\n\n¿Listo para el reto? 🏁 Ponte el dorsal y sal a conquistar La Gran Vuelta.
URL:https://www.mtb.racing/evento/la-gran-vuelta/
LOCATION:Cundinamarca\, Colombia
CATEGORIES:Ruta
ATTACH;FMTTYPE=image/jpeg:https://www.mtb.racing/wp-content/uploads/2025/07/La_Gran_Vuelta_Alto_la_Linea-1-e1751475641231.jpeg
END:VEVENT
END:VCALENDAR