BEGIN:VCALENDAR
VERSION:2.0
PRODID:-//🚀 Carreras de MTB en Colombia ✔️ - ECPv6.15.20//NONSGML v1.0//EN
CALSCALE:GREGORIAN
METHOD:PUBLISH
X-WR-CALNAME:🚀 Carreras de MTB en Colombia ✔️
X-ORIGINAL-URL:https://www.mtb.racing
X-WR-CALDESC:Eventos para 🚀 Carreras de MTB en Colombia ✔️
REFRESH-INTERVAL;VALUE=DURATION:PT1H
X-Robots-Tag:noindex
X-PUBLISHED-TTL:PT1H
BEGIN:VTIMEZONE
TZID:America/New_York
BEGIN:DAYLIGHT
TZOFFSETFROM:-0500
TZOFFSETTO:-0400
TZNAME:EDT
DTSTART:20240310T070000
END:DAYLIGHT
BEGIN:STANDARD
TZOFFSETFROM:-0400
TZOFFSETTO:-0500
TZNAME:EST
DTSTART:20241103T060000
END:STANDARD
BEGIN:DAYLIGHT
TZOFFSETFROM:-0500
TZOFFSETTO:-0400
TZNAME:EDT
DTSTART:20250309T070000
END:DAYLIGHT
BEGIN:STANDARD
TZOFFSETFROM:-0400
TZOFFSETTO:-0500
TZNAME:EST
DTSTART:20251102T060000
END:STANDARD
BEGIN:DAYLIGHT
TZOFFSETFROM:-0500
TZOFFSETTO:-0400
TZNAME:EDT
DTSTART:20260308T070000
END:DAYLIGHT
BEGIN:STANDARD
TZOFFSETFROM:-0400
TZOFFSETTO:-0500
TZNAME:EST
DTSTART:20261101T060000
END:STANDARD
END:VTIMEZONE
BEGIN:VEVENT
DTSTART;TZID=America/New_York:20251226T080000
DTEND;TZID=America/New_York:20251226T170000
DTSTAMP:20260420T011255
CREATED:20251222T225242Z
LAST-MODIFIED:20251222T225251Z
UID:10000304-1766736000-1766768400@www.mtb.racing
SUMMARY:🚴‍♀️🌄 Ciclotravesía en Iza\, Boyacá: Tradición\, Naturaleza y Paseo
DESCRIPTION:👇 Reserva tu lugar. ¡Inscríbete ya! 👇 \n\n\n\n\n\nWhatsApp\n\n\n\n\n\n\n\n\n\nLa ciclotravesía en Iza\, Boyacá invita a vivir una experiencia recreativa donde el ciclismo\, la tradición y los paisajes andinos se conectan en un solo recorrido 🚴‍♂️🌿. Este ciclopaseo familiar\, organizado en el municipio de Iza\, está pensado para ciclistas de todos los niveles que desean pedalear\, compartir y disfrutar sin presión competitiva. \n\n\n\nAdemás\, el recorrido se desarrolla bajo un formato tradicional de ciclopaseo\, donde la seguridad y el compañerismo ocupan un papel central 🤝🌄. Por ello\, no se trata de una competencia\, sino de una salida recreativa ideal para familias\, grupos de amigos y amantes del ciclismo que buscan una experiencia tranquila y diferente. \n\n\n\nDurante la jornada\, los participantes recorren vías y paisajes característicos de Boyacá\, reconocidos por su belleza natural\, clima fresco y entorno rural 🚵‍♀️🍃. Así\, cada kilómetro se convierte en una oportunidad para conectar con la naturaleza y apreciar los escenarios que rodean a Iza. \n\n\n\nComo incentivo especial\, la organización incluye la rifa de una bicicleta 🎁🚲\, en la cual participan quienes completan el recorrido en bicicleta. Esta actividad fortalece el sentido de comunidad y motiva la participación activa de todos los asistentes. \n\n\n\nFinalmente\, esta ciclotravesía promueve el respeto\, el cuidado grupal y la convivencia como valores principales ❤️🚴‍♂️. Sin duda\, representa una excelente oportunidad para disfrutar el ciclismo desde un enfoque saludable\, turístico y social en uno de los municipios más encantadores de Boyacá. \n\n\n\n\n\n\n\n\n\n\n\n\n\n\n\n\n\n\n	\n		\n\n			\n			\n\n							\n					\n						✅ Inscríbete en tu próxima carrera					\n				\n			\n			\n				\n											\n\n	\n	\n		\n			Abr		\n		\n			24		\n	\n\n\n	\n		\n			\n\n				\n					\n		\n		abril 24 @ 8:00 am – abril 26 @ 5:00 pm	\n	\n					\n	\n		🚴‍♂️🔥 ¡Vuelta al Tolima Máster 2026: Tres días para romper tus límites en el paraíso del ciclismo!	\n\n				\n\n				\n			\n		\n	\n\n\n											\n\n	\n	\n		\n			Abr		\n		\n			30		\n	\n\n\n	\n		\n			\n\n				\n					\n		\n		abril 30 @ 8:00 am – mayo 5 @ 5:00 pm	\n	\n					\n	\n		🚴‍♂️ ¡Vive la Aventura del Tour Quindío 2026! 🌄	\n\n				\n\n				\n			\n		\n	\n\n\n											\n\n	\n	\n		\n			May		\n		\n			3		\n	\n\n\n	\n		\n			\n\n				\n					\n		\n		8:00 am – 5:00 pm	\n	\n					\n	\n		🚴‍♂️✨ Ruta Medellín 2026 – La Experiencia de Ciclismo Más Vibrante de Antioquia ✨🌄	\n\n				\n\n				\n			\n		\n	\n\n\n											\n\n	\n	\n		\n			May		\n		\n			24		\n	\n\n\n	\n		\n			\n\n				\n					\n		\n		8:00 am – 5:00 pm	\n	\n					\n	\n		🚵‍♂️ Reto Diez Cumbres 2026: el desafío MTB más brutal del páramo de Sumapaz	\n\n				\n\n				\n			\n		\n	\n\n\n											\n\n	\n	\n		\n			Jun		\n		\n			8		\n	\n\n\n	\n		\n			\n\n				\n					\n		\n		8:00 am – 5:00 pm	\n	\n					\n	\n		🚴‍♂️🎵 Gran Fondo Ciudad Musical – Ruta de la Lechona 🐷	\n\n				\n\n				\n			\n		\n	\n\n\n											\n\n	\n	\n		\n			Jun		\n		\n			26		\n	\n\n\n	\n		\n			\n\n				\n					\n		\n		junio 26 @ 8:00 am – junio 27 @ 5:00 pm	\n	\n					\n	\n		🚵‍♀️ Manizales Everesting 2026: ¡El desafío que pondrá a prueba tu resistencia!	\n\n				\n\n				\n			\n		\n	\n\n\n											\n\n	\n	\n		\n			Jun		\n		\n			26		\n	\n\n\n	\n		\n			\n\n				\n					\n		\n		junio 26 @ 8:00 am – junio 27 @ 5:00 pm	\n	\n					\n	\n		🚵‍♂️ Everesting Manizales 2026 – El Reto Que Te Pone A Prueba	\n\n				\n\n				\n			\n		\n	\n\n\n											\n\n	\n	\n		\n			Jun		\n		\n			27		\n	\n\n\n	\n		\n			\n\n				\n					\n		\n		junio 27 @ 8:00 am – junio 29 @ 5:00 pm	\n	\n					\n	\n		🚴‍♂️ Santander Xtreme 2026 en Barichara – ¡El corazón del MTB late más fuerte! 💥	\n\n				\n\n				\n			\n		\n	\n\n\n											\n\n	\n	\n		\n			Jun		\n		\n			29		\n	\n\n\n	\n		\n			\n\n				\n					\n		\n		8:00 am – 5:00 pm	\n	\n					\n	\n		🌿🚵‍♂️ Travesía Sierra de La Macarena 2026 – Una aventura de ecoturismo sobre dos ruedas	\n\n				\n\n				\n			\n		\n	\n\n\n											\n\n	\n	\n		\n			Jul		\n		\n			18		\n	\n\n\n	\n		\n			\n\n				\n					\n		\n		julio 18 @ 8:00 am – julio 20 @ 5:00 pm	\n	\n					\n	\n		🚵‍♂️ Garrotera Race 2026 – Supera tus límites en Santander 🏃‍♀️🔥	\n\n				\n\n				\n			\n		\n	\n\n\n									\n\n				\n	\n		Ver calendario
URL:https://www.mtb.racing/evento/ciclotravesia-iza-boyaca-ciclopaseo-familiar/
LOCATION:Iza\, Boyacá\, 152240\, Colombia
CATEGORIES:Travesías
ATTACH;FMTTYPE=image/jpeg:https://www.mtb.racing/wp-content/uploads/2025/12/Ciclotravesia_en_Iza_Boyaca.jpeg
END:VEVENT
END:VCALENDAR