BEGIN:VCALENDAR
VERSION:2.0
PRODID:-//🚀 Carreras de MTB en Colombia ✔️ - ECPv6.15.20//NONSGML v1.0//EN
CALSCALE:GREGORIAN
METHOD:PUBLISH
X-WR-CALNAME:🚀 Carreras de MTB en Colombia ✔️
X-ORIGINAL-URL:https://www.mtb.racing
X-WR-CALDESC:Eventos para 🚀 Carreras de MTB en Colombia ✔️
REFRESH-INTERVAL;VALUE=DURATION:PT1H
X-Robots-Tag:noindex
X-PUBLISHED-TTL:PT1H
BEGIN:VTIMEZONE
TZID:America/New_York
BEGIN:DAYLIGHT
TZOFFSETFROM:-0500
TZOFFSETTO:-0400
TZNAME:EDT
DTSTART:20250309T070000
END:DAYLIGHT
BEGIN:STANDARD
TZOFFSETFROM:-0400
TZOFFSETTO:-0500
TZNAME:EST
DTSTART:20251102T060000
END:STANDARD
BEGIN:DAYLIGHT
TZOFFSETFROM:-0500
TZOFFSETTO:-0400
TZNAME:EDT
DTSTART:20260308T070000
END:DAYLIGHT
BEGIN:STANDARD
TZOFFSETFROM:-0400
TZOFFSETTO:-0500
TZNAME:EST
DTSTART:20261101T060000
END:STANDARD
BEGIN:DAYLIGHT
TZOFFSETFROM:-0500
TZOFFSETTO:-0400
TZNAME:EDT
DTSTART:20270314T070000
END:DAYLIGHT
BEGIN:STANDARD
TZOFFSETFROM:-0400
TZOFFSETTO:-0500
TZNAME:EST
DTSTART:20271107T060000
END:STANDARD
END:VTIMEZONE
BEGIN:VEVENT
DTSTART;TZID=America/New_York:20260102T080000
DTEND;TZID=America/New_York:20260102T170000
DTSTAMP:20260420T011250
CREATED:20251201T195836Z
LAST-MODIFIED:20251201T195840Z
UID:10000290-1767340800-1767373200@www.mtb.racing
SUMMARY:🚵‍♂️ ¡Prepárate para la Segunda Carrera de Ciclomontañismo en Colón\, Nariño! 🚵‍♀️🔥
DESCRIPTION:👇 Reserva tu lugar. ¡Inscríbete ya! 👇 \n\n\n\n\n\nWhatsApp\n\n\n\n\n\n\n\n\n\nLa carrera de ciclomontañismo en Nariño regresa este 02 de enero de 2026 con un circuito exigente de 10 km en la hermosa Vereda David Alto – Colón\, Génova\, Nariño. Un evento creado para ciclistas recreativos\, con categorías Femenino\, Libre y Veteranos 💥. \n\n\n\nEste inicio de año será el mejor momento para ponerte a prueba\, disfrutar del MTB auténtico y vivir un ambiente deportivo inigualable entre montañas\, adrenalina y buena energía 🌄✨. \n\n\n\n\n\n\n\n🏆 Premiación por categoría\n\n\n\nLos participantes podrán competir por excelentes premios en efectivo:🏅 1er puesto: $400.000🥈 2do puesto: $300.000🥉 3er puesto: $200.000🏅 4to puesto: $100.000🏅 5to puesto: $50.000 \n\n\n\n\n\n\n\n🕚 Hora de inicio: 11:00 AM\n\n\n\n📝 Inscripción: $20.000 pesos\n\n\n\nIncluye: 🍽️ Almuerzo • 🥤 Hidratación • 📋 Tablero \n\n\n\n\n\n\n\n📅 Inscripciones abiertas hasta el 20 de diciembre de 2025\n\n\n\n¡Asegura tu cupo y arranca el año pedaleando al máximo nivel! 🚴‍♂️💨 \n\n\n\n📞 Informes e inscripciones:314 644 35 27 – 321 776 71 46 \n\n\n\n\n\n\n\n🌟 Vive la experiencia MTB en Nariño y arranca el 2026 rodando en grande\n\n\n\nUn evento organizado con el apoyo de la Alcaldía Municipal y la Junta Organizadora\, pensado para que disfrutes del ciclismo en su máxima expresión 🌿✨. \n\n\n\n\n\n\n\n\n\n\n\n\n\n\n\n\n\n\n	\n		\n\n			\n			\n\n							\n					\n						✅ Inscríbete en tu próxima carrera					\n				\n			\n			\n				\n											\n\n	\n	\n		\n			Abr		\n		\n			24		\n	\n\n\n	\n		\n			\n\n				\n					\n		\n		abril 24 @ 8:00 am – abril 26 @ 5:00 pm	\n	\n					\n	\n		🚴‍♂️🔥 ¡Vuelta al Tolima Máster 2026: Tres días para romper tus límites en el paraíso del ciclismo!	\n\n				\n\n				\n			\n		\n	\n\n\n											\n\n	\n	\n		\n			Abr		\n		\n			30		\n	\n\n\n	\n		\n			\n\n				\n					\n		\n		abril 30 @ 8:00 am – mayo 5 @ 5:00 pm	\n	\n					\n	\n		🚴‍♂️ ¡Vive la Aventura del Tour Quindío 2026! 🌄	\n\n				\n\n				\n			\n		\n	\n\n\n											\n\n	\n	\n		\n			May		\n		\n			3		\n	\n\n\n	\n		\n			\n\n				\n					\n		\n		8:00 am – 5:00 pm	\n	\n					\n	\n		🚴‍♂️✨ Ruta Medellín 2026 – La Experiencia de Ciclismo Más Vibrante de Antioquia ✨🌄	\n\n				\n\n				\n			\n		\n	\n\n\n											\n\n	\n	\n		\n			May		\n		\n			24		\n	\n\n\n	\n		\n			\n\n				\n					\n		\n		8:00 am – 5:00 pm	\n	\n					\n	\n		🚵‍♂️ Reto Diez Cumbres 2026: el desafío MTB más brutal del páramo de Sumapaz	\n\n				\n\n				\n			\n		\n	\n\n\n											\n\n	\n	\n		\n			Jun		\n		\n			8		\n	\n\n\n	\n		\n			\n\n				\n					\n		\n		8:00 am – 5:00 pm	\n	\n					\n	\n		🚴‍♂️🎵 Gran Fondo Ciudad Musical – Ruta de la Lechona 🐷	\n\n				\n\n				\n			\n		\n	\n\n\n											\n\n	\n	\n		\n			Jun		\n		\n			26		\n	\n\n\n	\n		\n			\n\n				\n					\n		\n		junio 26 @ 8:00 am – junio 27 @ 5:00 pm	\n	\n					\n	\n		🚵‍♀️ Manizales Everesting 2026: ¡El desafío que pondrá a prueba tu resistencia!	\n\n				\n\n				\n			\n		\n	\n\n\n											\n\n	\n	\n		\n			Jun		\n		\n			26		\n	\n\n\n	\n		\n			\n\n				\n					\n		\n		junio 26 @ 8:00 am – junio 27 @ 5:00 pm	\n	\n					\n	\n		🚵‍♂️ Everesting Manizales 2026 – El Reto Que Te Pone A Prueba	\n\n				\n\n				\n			\n		\n	\n\n\n											\n\n	\n	\n		\n			Jun		\n		\n			27		\n	\n\n\n	\n		\n			\n\n				\n					\n		\n		junio 27 @ 8:00 am – junio 29 @ 5:00 pm	\n	\n					\n	\n		🚴‍♂️ Santander Xtreme 2026 en Barichara – ¡El corazón del MTB late más fuerte! 💥	\n\n				\n\n				\n			\n		\n	\n\n\n											\n\n	\n	\n		\n			Jun		\n		\n			29		\n	\n\n\n	\n		\n			\n\n				\n					\n		\n		8:00 am – 5:00 pm	\n	\n					\n	\n		🌿🚵‍♂️ Travesía Sierra de La Macarena 2026 – Una aventura de ecoturismo sobre dos ruedas	\n\n				\n\n				\n			\n		\n	\n\n\n											\n\n	\n	\n		\n			Jul		\n		\n			18		\n	\n\n\n	\n		\n			\n\n				\n					\n		\n		julio 18 @ 8:00 am – julio 20 @ 5:00 pm	\n	\n					\n	\n		🚵‍♂️ Garrotera Race 2026 – Supera tus límites en Santander 🏃‍♀️🔥	\n\n				\n\n				\n			\n		\n	\n\n\n									\n\n				\n	\n		Ver calendario
URL:https://www.mtb.racing/evento/segunda-carrera-ciclomontanismo-genova-narino-2026/
LOCATION:Génova\, Nariño\, 521060\, Colombia
CATEGORIES:Carreras
ATTACH;FMTTYPE=image/webp:https://www.mtb.racing/wp-content/uploads/2025/12/Carrera_de_Ciclomontanismo_en_Genova_Narino.webp
END:VEVENT
BEGIN:VEVENT
DTSTART;TZID=America/New_York:20260103T080000
DTEND;TZID=America/New_York:20260117T170000
DTSTAMP:20260420T011250
CREATED:20251121T205531Z
LAST-MODIFIED:20251121T205535Z
UID:10000271-1767427200-1768669200@www.mtb.racing
SUMMARY:🌟 Festival de Festivales 2025: ¡Del 3 al 17 de Enero Medellín Vibra con Ciclismo Infantil y Más de 25 Deportes! 🚴‍♂️🔥
DESCRIPTION:👇 Reserva tu lugar. ¡Inscríbete ya! 👇 \n\n\n\nEnlace\n\n\n\n\n\nInstagram\n\n\n\n\n\nDel 3 al 17 de enero\, Medellín se vestirá de fiesta deportiva: la Corporación Deportiva Los Paisitas\, a través de su tradicional Festival de Festivales\, organiza una gran jornada multideportiva para niños\, niñas y jóvenes\, con la participación de decenas de disciplinas. \n\n\n\nEste festival\, que cada año reúne miles de talentos infantiles\, es un verdadero símbolo de integración\, recreación y formación a través del deporte. Para esta edición\, se espera una participación masiva de deportistas de toda Colombia (y en algunas versiones incluso internacionales) bajo el espíritu de disciplina\, emoción y compañerismo. \n\n\n\n🚴 Ciclismo y otras disciplinas\n\n\n\nEntre las 28 disciplinas confirmadas se destacan: \n\n\n\n\nCiclismo (incluyendo ciclismo para niños)\n\n\n\nBMX\n\n\n\nAtletismo\n\n\n\nAjedrez\n\n\n\nBaloncesto\n\n\n\nBádminton\n\n\n\nBéisbol\n\n\n\nBolos\n\n\n\nEsgrima\n\n\n\nFútbol\n\n\n\nFútbol de salón\n\n\n\nFútbol sala\n\n\n\nJudo\n\n\n\nNatación\n\n\n\nPatinaje\n\n\n\nPorrismo\n\n\n\nTaekwondo\n\n\n\nTejo\n\n\n\nTenis de campo\n\n\n\nTenis de mesa\n\n\n\nTiro con arco\n\n\n\nVoleibol\n\n\n\nVoleibol playa\n\n\n\nAdemás\, cuatro deportes nuevos: gimnasia\, karate\, levantamiento de pesas y fútbol playa; y de exhibición\, balonmano.\n\n\n\n\n👶 El protagonismo de los niños\n\n\n\nUna de las grandes fortalezas del Festival de Festivales es su enfoque en los más pequeños: alrededor de 9.000 niños y niñas entre 5 y 15 años tomarán parte en las competencias. \n\n\n\nEn ciclismo\, particularmente\, los más jóvenes tendrán su espacio para competir\, aprender y crecer dentro de una comunidad deportiva que los inspira. \n\n\n\n🌍 Un evento con impacto social y deportivo\n\n\n\n\nEsta edición reunirá a miles de deportistas: según reportes\, más de 8.900 participantes entre niños y jóvenes estarán presentes.\n\n\n\nAdemás del componente deportivo\, el festival tiene un fuerte carácter social y cultural.\n\n\n\nSe rinde homenaje a figuras clave de la Corporación Los Paisitas\, como Gonzalo Valderrama Aguilar\, en reconocimiento a su labor por el deporte infantil.\n\n\n\nEn esta edición también debutará el balonmano\, como demostración\, ampliando aún más la oferta deportiva para los niños.\n\n\n\n\n📍 Escenarios y organización\n\n\n\n\nLas competencias se desarrollarán en escenarios emblemáticos de Medellín\, como la Unidad Deportiva Atanasio Girardot.\n\n\n\nEl evento es organizado por la Corporación Deportiva Los Paisitas\, con apoyo de entidades públicas como el INDER Medellín.\n\n\n\nLa edición actual es especialmente significativa pues celebra años de tradición y crecimiento del Festival\, consolidándose como uno de los eventos infantiles más importantes del país.\n\n\n\n\n\n\n\n\n🔊 ¿Por qué asistir o apoyar este festival?\n\n\n\n\nPara la ciudad: un evento que refuerza la cultura del deporte\, dinamiza escenarios deportivos y fortalece el tejido social.\n\n\n\n\n2. Para los niños: una oportunidad única de competir\, divertirse y formarse dentro de valores como el trabajo en equipo\, la disciplina y la superación. \n\n\n\n3. Para las familias: un espacio seguro y saludable para compartir\, apoyar a los hijos y conectarse con la comunidad deportiva de Medellín. \n\n\n\n4. Para patrocinadores / marcas: visibilidad ante miles de asistentes y una plataforma social que promueve el deporte desde la base. \n\n\n\n\n\n\n\n\n\n\n\n\n\n\n\n\n\n\n	\n		\n\n			\n			\n\n							\n					\n						✅ Inscríbete en tu próxima carrera					\n				\n			\n			\n				\n											\n\n	\n	\n		\n			Abr		\n		\n			24		\n	\n\n\n	\n		\n			\n\n				\n					\n		\n		abril 24 @ 8:00 am – abril 26 @ 5:00 pm	\n	\n					\n	\n		🚴‍♂️🔥 ¡Vuelta al Tolima Máster 2026: Tres días para romper tus límites en el paraíso del ciclismo!	\n\n				\n\n				\n			\n		\n	\n\n\n											\n\n	\n	\n		\n			Abr		\n		\n			30		\n	\n\n\n	\n		\n			\n\n				\n					\n		\n		abril 30 @ 8:00 am – mayo 5 @ 5:00 pm	\n	\n					\n	\n		🚴‍♂️ ¡Vive la Aventura del Tour Quindío 2026! 🌄	\n\n				\n\n				\n			\n		\n	\n\n\n											\n\n	\n	\n		\n			May		\n		\n			3		\n	\n\n\n	\n		\n			\n\n				\n					\n		\n		8:00 am – 5:00 pm	\n	\n					\n	\n		🚴‍♂️✨ Ruta Medellín 2026 – La Experiencia de Ciclismo Más Vibrante de Antioquia ✨🌄	\n\n				\n\n				\n			\n		\n	\n\n\n											\n\n	\n	\n		\n			May		\n		\n			24		\n	\n\n\n	\n		\n			\n\n				\n					\n		\n		8:00 am – 5:00 pm	\n	\n					\n	\n		🚵‍♂️ Reto Diez Cumbres 2026: el desafío MTB más brutal del páramo de Sumapaz	\n\n				\n\n				\n			\n		\n	\n\n\n											\n\n	\n	\n		\n			Jun		\n		\n			8		\n	\n\n\n	\n		\n			\n\n				\n					\n		\n		8:00 am – 5:00 pm	\n	\n					\n	\n		🚴‍♂️🎵 Gran Fondo Ciudad Musical – Ruta de la Lechona 🐷	\n\n				\n\n				\n			\n		\n	\n\n\n											\n\n	\n	\n		\n			Jun		\n		\n			26		\n	\n\n\n	\n		\n			\n\n				\n					\n		\n		junio 26 @ 8:00 am – junio 27 @ 5:00 pm	\n	\n					\n	\n		🚵‍♀️ Manizales Everesting 2026: ¡El desafío que pondrá a prueba tu resistencia!	\n\n				\n\n				\n			\n		\n	\n\n\n											\n\n	\n	\n		\n			Jun		\n		\n			26		\n	\n\n\n	\n		\n			\n\n				\n					\n		\n		junio 26 @ 8:00 am – junio 27 @ 5:00 pm	\n	\n					\n	\n		🚵‍♂️ Everesting Manizales 2026 – El Reto Que Te Pone A Prueba	\n\n				\n\n				\n			\n		\n	\n\n\n											\n\n	\n	\n		\n			Jun		\n		\n			27		\n	\n\n\n	\n		\n			\n\n				\n					\n		\n		junio 27 @ 8:00 am – junio 29 @ 5:00 pm	\n	\n					\n	\n		🚴‍♂️ Santander Xtreme 2026 en Barichara – ¡El corazón del MTB late más fuerte! 💥	\n\n				\n\n				\n			\n		\n	\n\n\n											\n\n	\n	\n		\n			Jun		\n		\n			29		\n	\n\n\n	\n		\n			\n\n				\n					\n		\n		8:00 am – 5:00 pm	\n	\n					\n	\n		🌿🚵‍♂️ Travesía Sierra de La Macarena 2026 – Una aventura de ecoturismo sobre dos ruedas	\n\n				\n\n				\n			\n		\n	\n\n\n											\n\n	\n	\n		\n			Jul		\n		\n			18		\n	\n\n\n	\n		\n			\n\n				\n					\n		\n		julio 18 @ 8:00 am – julio 20 @ 5:00 pm	\n	\n					\n	\n		🚵‍♂️ Garrotera Race 2026 – Supera tus límites en Santander 🏃‍♀️🔥	\n\n				\n\n				\n			\n		\n	\n\n\n									\n\n				\n	\n		Ver calendario
URL:https://www.mtb.racing/evento/festival-de-festivales-ciclismo-infantil-2025/
LOCATION:Medellín\, Antioquia\, 050004\, Colombia
CATEGORIES:Kids
ATTACH;FMTTYPE=image/webp:https://www.mtb.racing/wp-content/uploads/2025/11/Festival_de_Festivales_Ciclismo_Infantil.webp
END:VEVENT
BEGIN:VEVENT
DTSTART;TZID=America/New_York:20260104T080000
DTEND;TZID=America/New_York:20260104T170000
DTSTAMP:20260420T011251
CREATED:20251122T195914Z
LAST-MODIFIED:20251122T195917Z
UID:10000274-1767513600-1767546000@www.mtb.racing
SUMMARY:🎉🚵‍♂️ Travesía Feria de Manizales 2026 con Fundación Parceros
DESCRIPTION:👇 Reserva tu lugar. ¡Inscríbete ya! 👇 \n\n\n\n\n\n\n\n\n\n\n\n\n\n\n\n🌄 ¡Una ruta que combina deporte\, cultura y la magia de la feria más emblemática de Colombia! \n\n\n\nLa Travesía de la Feria de Manizales 2026 🌟 se llevará a cabo el 4 de enero de 2026\, un día perfecto para arrancar el año pedaleando entre montañas\, tradición\, fiesta y el espíritu solidario que caracteriza a la Fundación Parceros 🙌. \n\n\n\nEste evento deportivo\, cargado de inclusión y energía\, será el punto de inicio para vivir la Feria de Manizales 🎊🔥\, una celebración reconocida por su alegría\, desfiles\, escenarios musicales y la pasión que mueve a toda la ciudad. \n\n\n\n\n\n\n\n🚵‍♀️ ¿Por qué esta travesía es un imperdible para los deportistas?\n\n\n\n\nRuta icónica por las montañas de Manizales: subidas exigentes\, vistas panorámicas y senderos naturales listos para poner a prueba tus capacidades.\n\n\n\nOrganización profesional de la Fundación Parceros 💛: una comunidad que usa el ciclismo para transformar vidas\, unir familias y promover una cultura deportiva incluyente.\n\n\n\nExperiencia ferial única: combina tu participación con la Feria de Manizales\, que este año celebra su edición número 69\, llena de conciertos\, eventos culturales\, Reinado Internacional del Café 👑☕\, desfiles multicolor y más.\n\n\n\nPremios y beneficios para los participantes en ediciones anteriores:\n\n🎖️ Medalla\n\n\n\n💧 Puntos de hidratación\n\n\n\n📸 Fotografía profesional\n\n\n\n🥤 Snack energizante\n\n\n\n🛡️ Póliza de accidentes\n\n\n\n🌟 Sorpresas exclusivas Parceros\n\n\n\n\n\n\n\n\n\n\n🎡 La Feria de Manizales: tradición\, cultura y fiesta\n\n\n\nParticipar en la travesía significa comenzar el año en una de las festividades más importantes del país. La Feria de Manizales es reconocida por: \n\n\n\n\nSus desfiles coloridos llenos de tradición 🎨\n\n\n\nConciertos con más de 1.000 artistas en escena 🎶\n\n\n\nEl icónico Reinado Internacional del Café ☕👑\n\n\n\nActividades taurinas\, culturales y deportivas\n\n\n\nUn ambiente alegre y turístico que contagia a todos\n\n\n\n\nPuedes complementar tu experiencia visitando lugares como la Catedral Basílica de Manizales\, el Cable Aéreo\, el Mirador de Chipre y otros sitios emblemáticos de esta ciudad entre montañas 🌄. \n\n\n\n\n\n\n\n🤝 Fundación Parceros: deporte con propósito\n\n\n\nLa Fundación Parceros es más que un organizador:Es un movimiento social que impulsa el deporte como una herramienta para generar oportunidades\, fortalecer comunidades y transformar vidas.Cada evento combina ciclismo + impacto social\, convirtiendo cada pedaleada en un acto de solidaridad. \n\n\n\n\n\n\n\n📌 ¿Te sumas a esta experiencia?\n\n\n\n👉 Sigue a @fundacionparcerosoficial para detalles de inscripción\, ruta oficial y beneficios.👉 Únete a la comunidad Parceros y vive la energía deportiva que caracteriza a esta fundación 💛.👉 Prepárate para una travesía que mezcla deporte\, fiesta y la tradición de una feria única en Colombia. \n\n\n\n\n\n\n\n🎯 Haz parte de la Magia de los Colores\n\n\n\n¡Arranca el 2026 pedaleando en la capital de la montaña! 🌄🚴‍♂️Vive la Travesía Feria de Manizales 2026 con la Fundación Parceros y disfruta la magia\, los colores y la alegría de la feria más importante del Eje Cafetero. \n\n\n\n💥 ¡Inscríbete\, rueda\, celebra y sé parte de esta fiesta deportiva cargada de tradición y alegría! 🎊🔥 \n\n\n\n\n\n\n\n\n\n\n\n\n\n\n\n\n\n\n	\n		\n\n			\n			\n\n							\n					\n						✅ Inscríbete en tu próxima carrera					\n				\n			\n			\n				\n											\n\n	\n	\n		\n			Abr		\n		\n			24		\n	\n\n\n	\n		\n			\n\n				\n					\n		\n		abril 24 @ 8:00 am – abril 26 @ 5:00 pm	\n	\n					\n	\n		🚴‍♂️🔥 ¡Vuelta al Tolima Máster 2026: Tres días para romper tus límites en el paraíso del ciclismo!	\n\n				\n\n				\n			\n		\n	\n\n\n											\n\n	\n	\n		\n			Abr		\n		\n			30		\n	\n\n\n	\n		\n			\n\n				\n					\n		\n		abril 30 @ 8:00 am – mayo 5 @ 5:00 pm	\n	\n					\n	\n		🚴‍♂️ ¡Vive la Aventura del Tour Quindío 2026! 🌄	\n\n				\n\n				\n			\n		\n	\n\n\n											\n\n	\n	\n		\n			May		\n		\n			3		\n	\n\n\n	\n		\n			\n\n				\n					\n		\n		8:00 am – 5:00 pm	\n	\n					\n	\n		🚴‍♂️✨ Ruta Medellín 2026 – La Experiencia de Ciclismo Más Vibrante de Antioquia ✨🌄	\n\n				\n\n				\n			\n		\n	\n\n\n											\n\n	\n	\n		\n			May		\n		\n			24		\n	\n\n\n	\n		\n			\n\n				\n					\n		\n		8:00 am – 5:00 pm	\n	\n					\n	\n		🚵‍♂️ Reto Diez Cumbres 2026: el desafío MTB más brutal del páramo de Sumapaz	\n\n				\n\n				\n			\n		\n	\n\n\n											\n\n	\n	\n		\n			Jun		\n		\n			8		\n	\n\n\n	\n		\n			\n\n				\n					\n		\n		8:00 am – 5:00 pm	\n	\n					\n	\n		🚴‍♂️🎵 Gran Fondo Ciudad Musical – Ruta de la Lechona 🐷	\n\n				\n\n				\n			\n		\n	\n\n\n											\n\n	\n	\n		\n			Jun		\n		\n			26		\n	\n\n\n	\n		\n			\n\n				\n					\n		\n		junio 26 @ 8:00 am – junio 27 @ 5:00 pm	\n	\n					\n	\n		🚵‍♀️ Manizales Everesting 2026: ¡El desafío que pondrá a prueba tu resistencia!	\n\n				\n\n				\n			\n		\n	\n\n\n											\n\n	\n	\n		\n			Jun		\n		\n			26		\n	\n\n\n	\n		\n			\n\n				\n					\n		\n		junio 26 @ 8:00 am – junio 27 @ 5:00 pm	\n	\n					\n	\n		🚵‍♂️ Everesting Manizales 2026 – El Reto Que Te Pone A Prueba	\n\n				\n\n				\n			\n		\n	\n\n\n											\n\n	\n	\n		\n			Jun		\n		\n			27		\n	\n\n\n	\n		\n			\n\n				\n					\n		\n		junio 27 @ 8:00 am – junio 29 @ 5:00 pm	\n	\n					\n	\n		🚴‍♂️ Santander Xtreme 2026 en Barichara – ¡El corazón del MTB late más fuerte! 💥	\n\n				\n\n				\n			\n		\n	\n\n\n											\n\n	\n	\n		\n			Jun		\n		\n			29		\n	\n\n\n	\n		\n			\n\n				\n					\n		\n		8:00 am – 5:00 pm	\n	\n					\n	\n		🌿🚵‍♂️ Travesía Sierra de La Macarena 2026 – Una aventura de ecoturismo sobre dos ruedas	\n\n				\n\n				\n			\n		\n	\n\n\n											\n\n	\n	\n		\n			Jul		\n		\n			18		\n	\n\n\n	\n		\n			\n\n				\n					\n		\n		julio 18 @ 8:00 am – julio 20 @ 5:00 pm	\n	\n					\n	\n		🚵‍♂️ Garrotera Race 2026 – Supera tus límites en Santander 🏃‍♀️🔥	\n\n				\n\n				\n			\n		\n	\n\n\n									\n\n				\n	\n		Ver calendario
URL:https://www.mtb.racing/evento/travesia-feria-de-manizales-2026-fundacion-parceros/
LOCATION:Manizales\, Caldas\, 17001\, Colombia
CATEGORIES:Travesías
ATTACH;FMTTYPE=image/webp:https://www.mtb.racing/wp-content/uploads/2025/11/Travesia_Feria_de_Manizales_2026.webp
END:VEVENT
END:VCALENDAR